BEGIN:VCALENDAR
VERSION:2.0
PRODID:-//DevOps VietNam - ECPv6.15.20//NONSGML v1.0//EN
CALSCALE:GREGORIAN
METHOD:PUBLISH
X-WR-CALNAME:DevOps VietNam
X-ORIGINAL-URL:https://devops.vn
X-WR-CALDESC:Events for DevOps VietNam
REFRESH-INTERVAL;VALUE=DURATION:PT1H
X-Robots-Tag:noindex
X-PUBLISHED-TTL:PT1H
BEGIN:VTIMEZONE
TZID:Asia/Krasnoyarsk
BEGIN:STANDARD
TZOFFSETFROM:+0700
TZOFFSETTO:+0700
TZNAME:+07
DTSTART:20240101T000000
END:STANDARD
END:VTIMEZONE
BEGIN:VEVENT
DTSTART;TZID=Asia/Krasnoyarsk:20250322T080000
DTEND;TZID=Asia/Krasnoyarsk:20250322T235900
DTSTAMP:20260422T181840
CREATED:20250314T033042Z
LAST-MODIFIED:20250615T035035Z
UID:10000069-1742630400-1742687940@devops.vn
SUMMARY:Gặp gỡ VNDIRECT tại Ngày hội việc làm Trường Đại học Công nghệ (UET)
DESCRIPTION:VNDIRECT một trong những công ty chứng khoán hàng đầu Việt Nam sẽ chính thức có mặt tại Ngày hội việc làm Trường Đại học Công nghệ. Sự kiện lần này không chỉ là dịp để các bạn sinh viên gặp gỡ nhà tuyển dụng\, mà còn là cơ hội kết nối trực tiếp với đội ngũ công nghệ của VNDIRECT – những người đang kiến tạo giải pháp công nghệ đột phá cho thị trường tài chính Việt Nam. \nCơ hội dành cho bạn tại gian hàng VNDIRECT\n1. Cơ hội nghề nghiệp hấp dẫn trong lĩnh vực công nghệ\nNếu bạn là sinh viên chuyên ngành Công nghệ thông tin\, Khoa học máy tính\, Khoa học dữ liệu\, Trí tuệ nhân tạo hoặc có đam mê với DevOps\, phát triển phần mềm\, hạ tầng công nghệ… đây là thời điểm lý tưởng để tiếp cận các vị trí tuyển dụng thực tập và chính thức tại VNDIRECT.\nHãy đến và trò chuyện trực tiếp với các anh chị trong đội ngũ tuyển dụng và chuyên gia công nghệ để hiểu rõ hơn về lộ trình nghề nghiệp phù hợp với bạn trong lĩnh vực công nghệ tài chính. \n2. Trải nghiệm không gian công nghệ gần gũi\, sáng tạo\nGian hàng của VNDIRECT không chỉ là nơi để bạn tìm hiểu cơ hội nghề nghiệp\, mà còn là không gian kết nối – nơi bạn có thể chia sẻ\, đặt câu hỏi\, lắng nghe những câu chuyện nghề thực tế từ các “người đi trước”.\nTại đây\, bạn sẽ được khám phá cách công nghệ đang thay đổi ngành tài chính – từ tự động hóa giao dịch\, phân tích dữ liệu\, đến xây dựng hạ tầng điện toán đám mây phục vụ hàng triệu nhà đầu tư. \n3. Quà tặng hấp dẫn và hoạt động tương tác thú vị\nKhông chỉ là những chia sẻ chuyên môn\, VNDIRECT còn chuẩn bị nhiều phần quà đáng yêu và thiết thực dành cho những bạn đến tham quan và tương tác tại gian hàng.\nBạn cũng sẽ có cơ hội tham gia minigame vui nhộn và nhận những phần thưởng bất ngờ từ đội ngũ công nghệ VNDIRECT. \nLưu ý quan trọng\n\nHãy mang theo CV của bạn (in giấy hoặc bản mềm) để sẵn sàng “apply tại chỗ” và nhận những phản hồi trực tiếp từ nhà tuyển dụng.\nChuẩn bị tinh thần cởi mở\, năng lượng tích cực và sẵn sàng thể hiện bản thân trong cuộc trò chuyện cùng các chuyên gia công nghệ.\nDù bạn mới chỉ bắt đầu hành trình sự nghiệp hay đang tìm kiếm môi trường phát triển lâu dài\, VNDIRECT đều có lộ trình phù hợp dành cho bạn.\n\nThông tin liên hệ\n\nEmail: tuyendung@vndirect.com.vn\nWebsite tuyển dụng: vndirectcareers.com\nLinkedIn: VNDIRECT Securities Corporation\n\nCơ hội chạm tay vào hành trình nghề nghiệp mơ ước trong lĩnh vực công nghệ tài chính! \n\nThời gian: Từ 08:00\, Thứ Bảy\, ngày 22 tháng 03 năm 2025\nĐịa điểm: Gian hàng VNDIRECT – Trường Đại học Công nghệ\, ĐHQGHN (UET)\n\nCánh cửa vào thế giới công nghệ tài chính đang mở rộng. Hẹn gặp bạn vào sáng mai tại Trường Đại học Công nghệ – nơi cơ hội và đam mê gặp nhau!
URL:https://devops.vn/event/gap-go-vndirect-tai-ngay-hoi-viec-lam-truong-dai-hoc-cong-nghe-uet/
LOCATION:Trường Đại học Công nghệ\, VNU University of Engineering and Technology\, 144 Đ. Xuân Thủy\, Dịch Vọng Hậu\, Cầu Giấy\, Hà Nội\, Hà Nội\, Viet Nam
ATTACH;FMTTYPE=image/webp:https://devops.vn/uploads/images/2025/06/85f4f605-750c-48bd-82b4-b9d40a2943e9.webp
ORGANIZER;CN="VNDIRECT Careers":MAILTO:tuyendung@vndirect.com.vn
END:VEVENT
END:VCALENDAR